Workbook
Name 省: 数据源!$H$2:$H$35
Name 市: OFFSET(数据源!$F$1,MATCH(省市区!$Q1,数据源!$E$2:$E$3711,0),0,COUNTIF(数据源!$E:$E,省市区!$Q1))
Name 区: OFFSET(数据源!$C$1,MATCH(省市区!$Q1&省市区!$S1,数据源!$A$2:$A$3333&数据源!$B$2:$B$3333,0),0,COUNTIFS(数据源!$A:$A,省市区!$Q1,数据源!$B:$B,省市区!$S1))
Name ·: [1]数据源!$H$2:$H$35
Name ··: [2]数据源!$H$2:$H$35

Sheet 省市区
A1: 学员姓名 | B1: 性别 | C1: 证件类型 | D1: 证件号码 | E1: 出生日期 | F1: 民族 | G1: 政治面貌 | H1: 最高学历 | I1: 毕业院校 | J1: 专业名称 | K1: 健康状况 | L1: 联系电话 | M1: 工作单位 | N1: 参加工作时间 | O1: 职务 | P1: 户籍所在地 | Q1: 省 | R1: 省代码 | S1: 市 | T1: 市代码 | U1: 区 | V1: 区代码 | W1: 详细地址 | X1: 操作证类型 | Y1: 证书号码 | Z1: 连续从事本工种时间(年) | AA1: 证书有效期开始日期 | AB1: 证书有效期结束日期 | AC1: 证书初领日期 | AD1: 证书复审日期
A2: 张三 | B2: 男 | C2: 身份证 | D2: 500000198909241611 | E2: =TEXT(MID(D2,7,8),"0000-00-00") -> 1989-09-24 | F2: 汉族 | H2: 硕士 | J2: 交通运输工程 | K2: 良好 | L2: XXXX | M2: XXXXX | O2: XXXX | P2: 贵州省六盘水市 | Q2: 贵州省 | R2: =IFERROR(VLOOKUP(Q:Q,[3]数据源!J:K,2,0),"") -> 520000 | S2: 六盘水市 | T2: =IFERROR(VLOOKUP(S:S,[3]数据源!L:M,2,0),"") -> 520200 | U2: 钟山区 | V2: =IFERROR(VLOOKUP(U:U,[3]数据源!N:O,2,0),"") -> 520201 | W2: XXXX
R3: =IFERROR(VLOOKUP(Q:Q,数据源!J:K,2,0),"") | T3: =IFERROR(VLOOKUP(S:S,数据源!L:M,2,0),"") | V3: =IFERROR(VLOOKUP(U:U,数据源!N:O,2,0),"")
R4: =IFERROR(VLOOKUP(Q:Q,数据源!J:K,2,0),"") | T4: =IFERROR(VLOOKUP(S:S,数据源!L:M,2,0),"") | V4: =IFERROR(VLOOKUP(U:U,数据源!N:O,2,0),"")
R5: =IFERROR(VLOOKUP(Q:Q,数据源!J:K,2,0),"") | T5: =IFERROR(VLOOKUP(S:S,数据源!L:M,2,0),"") | V5: =IFERROR(VLOOKUP(U:U,数据源!N:O,2,0),"")
R6: =IFERROR(VLOOKUP(Q:Q,数据源!J:K,2,0),"") | T6: =IFERROR(VLOOKUP(S:S,数据源!L:M,2,0),"") | V6: =IFERROR(VLOOKUP(U:U,数据源!N:O,2,0),"")
R7: =IFERROR(VLOOKUP(Q:Q,数据源!J:K,2,0),"") | T7: =IFERROR(VLOOKUP(S:S,数据源!L:M,2,0),"") | V7: =IFERROR(VLOOKUP(U:U,数据源!N:O,2,0),"")
R8: =IFERROR(VLOOKUP(Q:Q,数据源!J:K,2,0),"") | T8: =IFERROR(VLOOKUP(S:S,数据源!L:M,2,0),"") | V8: =IFERROR(VLOOKUP(U:U,数据源!N:O,2,0),"")
R9: =IFERROR(VLOOKUP(Q:Q,数据源!J:K,2,0),"") | T9: =IFERROR(VLOOKUP(S:S,数据源!L:M,2,0),"") | V9: =IFERROR(VLOOKUP(U:U,数据源!N:O,2,0),"")
R10: =IFERROR(VLOOKUP(Q:Q,数据源!J:K,2,0),"") | T10: =IFERROR(VLOOKUP(S:S,数据源!L:M,2,0),"") | V10: =IFERROR(VLOOKUP(U:U,数据源!N:O,2,0),"")
R11: =IFERROR(VLOOKUP(Q:Q,数据源!J:K,2,0),"") | T11: =IFERROR(VLOOKUP(S:S,数据源!L:M,2,0),"") | V11: =IFERROR(VLOOKUP(U:U,数据源!N:O,2,0),"")
R12: =IFERROR(VLOOKUP(Q:Q,数据源!J:K,2,0),"") | T12: =IFERROR(VLOOKUP(S:S,数据源!L:M,2,0),"") | V12: =IFERROR(VLOOKUP(U:U,数据源!N:O,2,0),"")
R13: =IFERROR(VLOOKUP(Q:Q,数据源!J:K,2,0),"") | T13: =IFERROR(VLOOKUP(S:S,数据源!L:M,2,0),"") | V13: =IFERROR(VLOOKUP(U:U,数据源!N:O,2,0),"")
R14: =IFERROR(VLOOKUP(Q:Q,数据源!J:K,2,0),"") | T14: =IFERROR(VLOOKUP(S:S,数据源!L:M,2,0),"") | V14: =IFERROR(VLOOKUP(U:U,数据源!N:O,2,0),"")
... R91: =IFERROR(VLOOKUP(Q:Q,数据源!J:K,2,0),"") | T91: =IFERROR(VLOOKUP(S:S,数据源!L:M,2,0),"") | V91: =IFERROR(VLOOKUP(U:U,数据源!N:O,2,0),"")

Sheet 数据源
A1: 省 | B1: 市 | C1: 区 | E1: 省 | F1: 市 | H1: 省 | J1: 地区名称（省） | K1: 地区编码（省） | L1: 地区名称（市） | M1: 地区编码（市） | N1: 地区名称（区县） | O1: 地区编码（区县）
A2: 北京 | B2: 北京市 | C2: 东城区 | E2: 北京 | F2: 北京市 | H2: 北京 | J2: 北京 | K2: 110000 | L2: 北京市 | M2: 110100 | N2: 东城区 | O2: 110101
A3: 北京 | B3: 北京市 | C3: 西城区 | E3: 北京 | F3: 北京郊县 | H3: 天津 | J3: 北京 | K3: 110000 | L3: 北京市 | M3: 110100 | N3: 西城区 | O3: 110102
A4: 北京 | B4: 北京市 | C4: 朝阳区 | E4: 天津 | F4: 天津市 | H4: 河北省 | J4: 北京 | K4: 110000 | L4: 北京市 | M4: 110100 | N4: 朝阳区 | O4: 110105
A5: 北京 | B5: 北京市 | C5: 丰台区 | E5: 天津 | F5: 天津郊县 | H5: 山西省 | J5: 北京 | K5: 110000 | L5: 北京市 | M5: 110100 | N5: 丰台区 | O5: 110106
A6: 北京 | B6: 北京市 | C6: 石景山区 | E6: 河北省 | F6: 石家庄市 | H6: 内蒙古自治区 | J6: 北京 | K6: 110000 | L6: 北京市 | M6: 110100 | N6: 石景山区 | O6: 110107
A7: 北京 | B7: 北京市 | C7: 海淀区 | E7: 河北省 | F7: 唐山市 | H7: 辽宁省 | J7: 北京 | K7: 110000 | L7: 北京市 | M7: 110100 | N7: 海淀区 | O7: 110108
A8: 北京 | B8: 北京市 | C8: 门头沟区 | E8: 河北省 | F8: 秦皇岛市 | H8: 吉林省 | J8: 北京 | K8: 110000 | L8: 北京市 | M8: 110100 | N8: 门头沟区 | O8: 110109
A9: 北京 | B9: 北京市 | C9: 房山区 | E9: 河北省 | F9: 邯郸市 | H9: 黑龙江省 | J9: 北京 | K9: 110000 | L9: 北京市 | M9: 110100 | N9: 房山区 | O9: 110111
A10: 北京 | B10: 北京市 | C10: 通州区 | E10: 河北省 | F10: 邢台市 | H10: 上海 | J10: 北京 | K10: 110000 | L10: 北京市 | M10: 110100 | N10: 通州区 | O10: 110112
A11: 北京 | B11: 北京市 | C11: 顺义区 | E11: 河北省 | F11: 保定市 | H11: 江苏省 | J11: 北京 | K11: 110000 | L11: 北京市 | M11: 110100 | N11: 顺义区 | O11: 110113
A12: 北京 | B12: 北京市 | C12: 昌平区 | E12: 河北省 | F12: 张家口市 | H12: 浙江省 | J12: 北京 | K12: 110000 | L12: 北京市 | M12: 110100 | N12: 昌平区 | O12: 110114
A13: 北京 | B13: 北京市 | C13: 大兴区 | E13: 河北省 | F13: 承德市 | H13: 安徽省 | J13: 北京 | K13: 110000 | L13: 北京市 | M13: 110100 | N13: 大兴区 | O13: 110115
... A35: 河北省 | B35: 石家庄市 | C35: 桥西区 | E35: 内蒙古自治区 | F35: 巴彦淖尔市 | H35: 澳门特别行政区 | J35: 河北省 | K35: 130000 | L35: 石家庄市 | M35: 130100 | N35: 桥西区 | O35: 130104
A36: 河北省 | B36: 石家庄市 | C36: 新华区 | E36: 内蒙古自治区 | F36: 乌兰察布市 | J36: 河北省 | K36: 130000 | L36: 石家庄市 | M36: 130100 | N36: 新华区 | O36: 130105
A37: 河北省 | B37: 石家庄市 | C37: 井陉矿区 | E37: 内蒙古自治区 | F37: 兴安盟 | J37: 河北省 | K37: 130000 | L37: 石家庄市 | M37: 130100 | N37: 井陉矿区 | O37: 130107
A38: 河北省 | B38: 石家庄市 | C38: 裕华区 | E38: 内蒙古自治区 | F38: 锡林郭勒盟 | J38: 河北省 | K38: 130000 | L38: 石家庄市 | M38: 130100 | N38: 裕华区 | O38: 130108
A39: 河北省 | B39: 石家庄市 | C39: 藁城区 | E39: 内蒙古自治区 | F39: 阿拉善盟 | J39: 河北省 | K39: 130000 | L39: 石家庄市 | M39: 130100 | N39: 藁城区 | O39: 130109
A40: 河北省 | B40: 石家庄市 | C40: 鹿泉区 | E40: 辽宁省 | F40: 沈阳市 | J40: 河北省 | K40: 130000 | L40: 石家庄市 | M40: 130100 | N40: 鹿泉区 | O40: 130110
A41: 河北省 | B41: 石家庄市 | C41: 栾城区 | E41: 辽宁省 | F41: 大连市 | J41: 河北省 | K41: 130000 | L41: 石家庄市 | M41: 130100 | N41: 栾城区 | O41: 130111
A42: 河北省 | B42: 石家庄市 | C42: 井陉县 | E42: 辽宁省 | F42: 鞍山市 | J42: 河北省 | K42: 130000 | L42: 石家庄市 | M42: 130100 | N42: 井陉县 | O42: 130121
A43: 河北省 | B43: 石家庄市 | C43: 正定县 | E43: 辽宁省 | F43: 抚顺市 | J43: 河北省 | K43: 130000 | L43: 石家庄市 | M43: 130100 | N43: 正定县 | O43: 130123
A44: 河北省 | B44: 石家庄市 | C44: 行唐县 | E44: 辽宁省 | F44: 本溪市 | J44: 河北省 | K44: 130000 | L44: 石家庄市 | M44: 130100 | N44: 行唐县 | O44: 130125
A45: 河北省 | B45: 石家庄市 | C45: 灵寿县 | E45: 辽宁省 | F45: 丹东市 | J45: 河北省 | K45: 130000 | L45: 石家庄市 | M45: 130100 | N45: 灵寿县 | O45: 130126
A46: 河北省 | B46: 石家庄市 | C46: 高邑县 | E46: 辽宁省 | F46: 锦州市 | J46: 河北省 | K46: 130000 | L46: 石家庄市 | M46: 130100 | N46: 高邑县 | O46: 130127
A47: 河北省 | B47: 石家庄市 | C47: 深泽县 | E47: 辽宁省 | F47: 营口市 | J47: 河北省 | K47: 130000 | L47: 石家庄市 | M47: 130100 | N47: 深泽县 | O47: 130128
... A397: 内蒙古自治区 | B397: 乌兰察布市 | C397: 兴和县 | E397: 澳门特别行政区 | F397: 澳门 | J397: 内蒙古自治区 | K397: 150000 | L397: 乌兰察布市 | M397: 150900 | N397: 察哈尔右翼后旗 | O397: 150928
A398: 内蒙古自治区 | B398: 乌兰察布市 | C398: 凉城县 | J398: 内蒙古自治区 | K398: 150000 | L398: 乌兰察布市 | M398: 150900 | N398: 四子王旗 | O398: 150929
A399: 内蒙古自治区 | B399: 乌兰察布市 | C399: 察哈尔右翼前旗 | J399: 内蒙古自治区 | K399: 150000 | L399: 乌兰察布市 | M399: 150900 | N399: 丰镇市 | O399: 150981
A400: 内蒙古自治区 | B400: 乌兰察布市 | C400: 察哈尔右翼中旗 | J400: 内蒙古自治区 | K400: 150000 | L400: 兴安盟 | M400: 152200 | N400: 乌兰浩特市 | O400: 152201
A401: 内蒙古自治区 | B401: 乌兰察布市 | C401: 察哈尔右翼后旗 | J401: 内蒙古自治区 | K401: 150000 | L401: 兴安盟 | M401: 152200 | N401: 阿尔山市 | O401: 152202
A402: 内蒙古自治区 | B402: 乌兰察布市 | C402: 四子王旗 | J402: 内蒙古自治区 | K402: 150000 | L402: 兴安盟 | M402: 152200 | N402: 科尔沁右翼前旗 | O402: 152221
A403: 内蒙古自治区 | B403: 乌兰察布市 | C403: 丰镇市 | J403: 内蒙古自治区 | K403: 150000 | L403: 兴安盟 | M403: 152200 | N403: 科尔沁右翼中旗 | O403: 152222
A404: 内蒙古自治区 | B404: 兴安盟 | C404: 乌兰浩特市 | J404: 内蒙古自治区 | K404: 150000 | L404: 兴安盟 | M404: 152200 | N404: 扎赉特旗 | O404: 152223
A405: 内蒙古自治区 | B405: 兴安盟 | C405: 阿尔山市 | J405: 内蒙古自治区 | K405: 150000 | L405: 兴安盟 | M405: 152200 | N405: 突泉县 | O405: 152224
A406: 内蒙古自治区 | B406: 兴安盟 | C406: 科尔沁右翼前旗 | J406: 内蒙古自治区 | K406: 150000 | L406: 锡林郭勒盟 | M406: 152500 | N406: 二连浩特市 | O406: 152501
A407: 内蒙古自治区 | B407: 兴安盟 | C407: 科尔沁右翼中旗 | J407: 内蒙古自治区 | K407: 150000 | L407: 锡林郭勒盟 | M407: 152500 | N407: 锡林浩特市 | O407: 152502
A408: 内蒙古自治区 | B408: 兴安盟 | C408: 扎赉特旗 | J408: 内蒙古自治区 | K408: 150000 | L408: 锡林郭勒盟 | M408: 152500 | N408: 阿巴嘎旗 | O408: 152522
A409: 内蒙古自治区 | B409: 兴安盟 | C409: 突泉县 | J409: 内蒙古自治区 | K409: 150000 | L409: 锡林郭勒盟 | M409: 152500 | N409: 苏尼特左旗 | O409: 152523
... A2846: 西藏自治区 | B2846: 山南地区 | C2846: 乃东区 | J2846: 澳门特别行政区 | K2846: 820000 | L2846: 圣方济各堂区 | M2846: 820000 | N2846: 圣方济各堂区 | O2846: 820008
A2847: 西藏自治区 | B2847: 山南地区 | C2847: 扎囊县
A2848: 西藏自治区 | B2848: 山南地区 | C2848: 贡嘎县
A2849: 西藏自治区 | B2849: 山南地区 | C2849: 桑日县
A2850: 西藏自治区 | B2850: 山南地区 | C2850: 琼结县
A2851: 西藏自治区 | B2851: 山南地区 | C2851: 曲松县
A2852: 西藏自治区 | B2852: 山南地区 | C2852: 措美县
A2853: 西藏自治区 | B2853: 山南地区 | C2853: 洛扎县
A2854: 西藏自治区 | B2854: 山南地区 | C2854: 加查县
A2855: 西藏自治区 | B2855: 山南地区 | C2855: 隆子县
A2856: 西藏自治区 | B2856: 山南地区 | C2856: 错那县
A2857: 西藏自治区 | B2857: 山南地区 | C2857: 浪卡子县
A2858: 西藏自治区 | B2858: 那曲地区 | C2858: 色尼区
... A3333: 澳门特别行政区 | B3333: 澳门 | C3333: 圣方济各堂区

Sheet 民族
A1: 汉族 | B1: 1
A2: 蒙古族 | B2: 2
A3: 回族 | B3: 3
A4: 藏族 | B4: 4
A5: 维吾尔族 | B5: 5
A6: 苗族 | B6: 6
A7: 彝族 | B7: 7
A8: 壮族 | B8: 8
A9: 布依族 | B9: 9
A10: 朝鲜族 | B10: 10
A11: 满族 | B11: 11
A12: 侗族 | B12: 12
... A57: 穿青人 | B57: 57
